BEGIN:VCALENDAR
VERSION:2.0
PRODID:-//Michael Hack Solutions - ECPv6.15.20//NONSGML v1.0//EN
CALSCALE:GREGORIAN
METHOD:PUBLISH
X-WR-CALNAME:Michael Hack Solutions
X-ORIGINAL-URL:https://www.hack-solutions.de
X-WR-CALDESC:Veranstaltungen für Michael Hack Solutions
REFRESH-INTERVAL;VALUE=DURATION:PT1H
X-Robots-Tag:noindex
X-PUBLISHED-TTL:PT1H
BEGIN:VTIMEZONE
TZID:Europe/Berlin
BEGIN:DAYLIGHT
TZOFFSETFROM:+0100
TZOFFSETTO:+0200
TZNAME:CEST
DTSTART:20240331T010000
END:DAYLIGHT
BEGIN:STANDARD
TZOFFSETFROM:+0200
TZOFFSETTO:+0100
TZNAME:CET
DTSTART:20241027T010000
END:STANDARD
BEGIN:DAYLIGHT
TZOFFSETFROM:+0100
TZOFFSETTO:+0200
TZNAME:CEST
DTSTART:20250330T010000
END:DAYLIGHT
BEGIN:STANDARD
TZOFFSETFROM:+0200
TZOFFSETTO:+0100
TZNAME:CET
DTSTART:20251026T010000
END:STANDARD
BEGIN:DAYLIGHT
TZOFFSETFROM:+0100
TZOFFSETTO:+0200
TZNAME:CEST
DTSTART:20260329T010000
END:DAYLIGHT
BEGIN:STANDARD
TZOFFSETFROM:+0200
TZOFFSETTO:+0100
TZNAME:CET
DTSTART:20261025T010000
END:STANDARD
END:VTIMEZONE
BEGIN:VEVENT
DTSTART;TZID=Europe/Berlin:20250627T000000
DTEND;TZID=Europe/Berlin:20250629T235959
DTSTAMP:20260424T051927
CREATED:20250703T123726Z
LAST-MODIFIED:20250703T123726Z
UID:449-1750982400-1751241599@www.hack-solutions.de
SUMMARY:ICCC Young Professionals Summer Camp
DESCRIPTION:ICCC Young Professionals Summer Camp\n\n\n\n\n\n\n\n\n\n\n\nFrom Darkness to Light –\n\n\n\n\nLerne\, das Verborgene zu sehen\n\n\n\n\n\n\nFür junge Führungskräfte\, Gründer und Unternehmer\, die ihr Business auf biblischem Fundament bauen wollen. \n\n\n\n\n\n\n\n\n✔︎ Inspirierende Sessions\n✔︎ Hören auf GOTTES Stimme\n✔︎ Netzwerken mit Gleichgesinnten\n✔︎ Leckeres Essen und chillen am Pool
URL:https://www.hack-solutions.de/event/iccc-young-professionals-summer-camp/
LOCATION:Lauenau\, Germany
END:VEVENT
END:VCALENDAR