BEGIN:VCALENDAR
VERSION:2.0
PRODID:-//Michael Hack Solutions - ECPv6.15.20//NONSGML v1.0//EN
CALSCALE:GREGORIAN
METHOD:PUBLISH
X-WR-CALNAME:Michael Hack Solutions
X-ORIGINAL-URL:https://www.hack-solutions.de
X-WR-CALDESC:Veranstaltungen für Michael Hack Solutions
REFRESH-INTERVAL;VALUE=DURATION:PT1H
X-Robots-Tag:noindex
X-PUBLISHED-TTL:PT1H
BEGIN:VTIMEZONE
TZID:Europe/Berlin
BEGIN:DAYLIGHT
TZOFFSETFROM:+0100
TZOFFSETTO:+0200
TZNAME:CEST
DTSTART:20240331T010000
END:DAYLIGHT
BEGIN:STANDARD
TZOFFSETFROM:+0200
TZOFFSETTO:+0100
TZNAME:CET
DTSTART:20241027T010000
END:STANDARD
BEGIN:DAYLIGHT
TZOFFSETFROM:+0100
TZOFFSETTO:+0200
TZNAME:CEST
DTSTART:20250330T010000
END:DAYLIGHT
BEGIN:STANDARD
TZOFFSETFROM:+0200
TZOFFSETTO:+0100
TZNAME:CET
DTSTART:20251026T010000
END:STANDARD
BEGIN:DAYLIGHT
TZOFFSETFROM:+0100
TZOFFSETTO:+0200
TZNAME:CEST
DTSTART:20260329T010000
END:DAYLIGHT
BEGIN:STANDARD
TZOFFSETFROM:+0200
TZOFFSETTO:+0100
TZNAME:CET
DTSTART:20261025T010000
END:STANDARD
END:VTIMEZONE
BEGIN:VEVENT
DTSTART;TZID=Europe/Berlin:20250929T000000
DTEND;TZID=Europe/Berlin:20251001T235959
DTSTAMP:20260423T134810
CREATED:20250703T125112Z
LAST-MODIFIED:20250703T125112Z
UID:461-1759104000-1759363199@www.hack-solutions.de
SUMMARY:Bits & Pretzels München
DESCRIPTION:Home 0f founders\nBits & Pretzels hosts 7\,500 founders\, investors\, and industry leaders for three days full of learning\,\nnetworking & doing business during Munich Oktoberfest.
URL:https://www.hack-solutions.de/event/bits-pretzels-muenchen/
LOCATION:International Congress Center Messe (ICM)\, Munich\, Am Messesee 2\, München\, 81829\, Germany
END:VEVENT
END:VCALENDAR