BEGIN:VCALENDAR
VERSION:2.0
PRODID:-//Michael Hack Solutions - ECPv6.15.20//NONSGML v1.0//EN
CALSCALE:GREGORIAN
METHOD:PUBLISH
X-ORIGINAL-URL:https://www.hack-solutions.de
X-WR-CALDESC:Veranstaltungen für Michael Hack Solutions
REFRESH-INTERVAL;VALUE=DURATION:PT1H
X-Robots-Tag:noindex
X-PUBLISHED-TTL:PT1H
BEGIN:VTIMEZONE
TZID:Europe/Berlin
BEGIN:DAYLIGHT
TZOFFSETFROM:+0100
TZOFFSETTO:+0200
TZNAME:CEST
DTSTART:20240331T010000
END:DAYLIGHT
BEGIN:STANDARD
TZOFFSETFROM:+0200
TZOFFSETTO:+0100
TZNAME:CET
DTSTART:20241027T010000
END:STANDARD
BEGIN:DAYLIGHT
TZOFFSETFROM:+0100
TZOFFSETTO:+0200
TZNAME:CEST
DTSTART:20250330T010000
END:DAYLIGHT
BEGIN:STANDARD
TZOFFSETFROM:+0200
TZOFFSETTO:+0100
TZNAME:CET
DTSTART:20251026T010000
END:STANDARD
BEGIN:DAYLIGHT
TZOFFSETFROM:+0100
TZOFFSETTO:+0200
TZNAME:CEST
DTSTART:20260329T010000
END:DAYLIGHT
BEGIN:STANDARD
TZOFFSETFROM:+0200
TZOFFSETTO:+0100
TZNAME:CET
DTSTART:20261025T010000
END:STANDARD
END:VTIMEZONE
BEGIN:VEVENT
DTSTART;TZID=Europe/Berlin:20250929T000000
DTEND;TZID=Europe/Berlin:20251001T235959
DTSTAMP:20260423T084120
CREATED:20250703T125112Z
LAST-MODIFIED:20250703T125112Z
UID:461-1759104000-1759363199@www.hack-solutions.de
SUMMARY:Bits & Pretzels München
DESCRIPTION:Home 0f founders\nBits & Pretzels hosts 7\,500 founders\, investors\, and industry leaders for three days full of learning\,\nnetworking & doing business during Munich Oktoberfest.
URL:https://www.hack-solutions.de/event/bits-pretzels-muenchen/
LOCATION:International Congress Center Messe (ICM)\, Munich\, Am Messesee 2\, München\, 81829\, Germany
END:VEVENT
BEGIN:VEVENT
DTSTART;TZID=Europe/Berlin:20251007T000000
DTEND;TZID=Europe/Berlin:20251009T235959
DTSTAMP:20260423T084120
CREATED:20250703T120822Z
LAST-MODIFIED:20250703T120822Z
UID:445-1759795200-1760054399@www.hack-solutions.de
SUMMARY:it-sa Expo&Congress Nürnberg
DESCRIPTION:Die it-sa ist das HOME OF IT SECURITY – mit der it-sa Expo&Congress bietet die it-sa allen eine Messeheimat\, die sich professionell dem Thema IT-Sicherheit widmen. \nDie Fachmesse zählt zu den weltweit größten Dialogplattformen für branchenspezifische IT-Security-Lösungen. Sie bringt Experten vor Ort in Nürnberg zusammen und ist mit aktuellen Themen\, fachspezifischen Forenbeiträgen und inspirierenden Vorträgen Trendbarometer für den gesamten IT-Sicherheitsmarkt. Das begleitende Kongressprogramm Congress@it-sa bietet Raum für den vertieften fachlichen Austausch zu konkreten Fragen und spezifischen Herausforderungen. \nVom 7. bis 9. Oktober 2025 treffen sich erneut internationale IT-Sicherheitsexperten und Entscheider im Messezentrum Nürnberg zum Austausch über Herausforderungen und Trends in der Cybersicherheit.
URL:https://www.hack-solutions.de/event/it-sa-expocongress-nuernberg/
LOCATION:Messezentrum Nürnberg\, Messezentrum 1\, Nürnberg\, 90471\, Germany
END:VEVENT
BEGIN:VEVENT
DTSTART;TZID=Europe/Berlin:20251008T090000
DTEND;TZID=Europe/Berlin:20251008T153000
DTSTAMP:20260423T084120
CREATED:20251013T183737Z
LAST-MODIFIED:20251013T184023Z
UID:572-1759914000-1759937400@www.hack-solutions.de
SUMMARY:IHK IT-Sicherheitskonferenz 2025
DESCRIPTION:Die sicherheitspolitische Zeitenwende betrifft nicht nur Verteidigung und Geopolitik. Längst reicht sie tief in die digitale Wirtschaft. Cyberangriffe\, Spionage\, Sabotage und Desinformationskampagnen sind zentrale Instrumente moderner Konfliktführung und treffen Unternehmen direkt: über Netzwerke\, Lieferketten und IT-Systeme.\n\n\nGleichzeitig nehmen regulatorische Anforderungen zu und machen deutlich: IT-Sicherheit ist keine Option mehr\, sondern Pflicht.\nDenn: Cyberangriffe werden gezielter\, professioneller und aggressiver. Besonders kleine und mittlere Unternehmen geraten zunehmend ins Visier.\nWer sich nicht vorbereitet riskiert Verlust sensibler Informationen\, Reputationsschäden und erhebliche finanzielle Einbußen.\n\nWie bereiten Sie sich auf den Ernstfall vor?\nWas tun Sie im akuten Cyber-Notfall?\nUnd wer unterstützt Sie dabei konkret?\n\nAntworten darauf gibt Ihnen diediesjährige IHK IT-Sicherheitskonferenz 2025.\n\nErfahren Sie\, wie Sie Ihr Unternehmen gegen aktuelle Cyberbedrohungen wappnen\, welche Schutzmaßnahmen wirklich wirken – und wie Sie Angriffe nicht nur überstehen\, sondern gestärkt daraus hervorgehen.
URL:https://www.hack-solutions.de/event/ihk-it-sicherheitskonferenz-2025/
LOCATION:IHK Schwarzwald-Baar-Heuberg\, Albert-Schweitzer-Straße 7\, Villingen-Schwenningen\, 78052\, Germany
END:VEVENT
END:VCALENDAR